BEGIN:VCALENDAR
VERSION:2.0
PRODID:-//Ville de Moissac - ECPv6.15.15//NONSGML v1.0//EN
CALSCALE:GREGORIAN
METHOD:PUBLISH
X-WR-CALNAME:Ville de Moissac
X-ORIGINAL-URL:https://www.moissac.fr
X-WR-CALDESC:Évènements pour Ville de Moissac
REFRESH-INTERVAL;VALUE=DURATION:PT1H
X-Robots-Tag:noindex
X-PUBLISHED-TTL:PT1H
BEGIN:VTIMEZONE
TZID:Europe/Paris
BEGIN:DAYLIGHT
TZOFFSETFROM:+0100
TZOFFSETTO:+0200
TZNAME:CEST
DTSTART:20240331T010000
END:DAYLIGHT
BEGIN:STANDARD
TZOFFSETFROM:+0200
TZOFFSETTO:+0100
TZNAME:CET
DTSTART:20241027T010000
END:STANDARD
BEGIN:DAYLIGHT
TZOFFSETFROM:+0100
TZOFFSETTO:+0200
TZNAME:CEST
DTSTART:20250330T010000
END:DAYLIGHT
BEGIN:STANDARD
TZOFFSETFROM:+0200
TZOFFSETTO:+0100
TZNAME:CET
DTSTART:20251026T010000
END:STANDARD
BEGIN:DAYLIGHT
TZOFFSETFROM:+0100
TZOFFSETTO:+0200
TZNAME:CEST
DTSTART:20260329T010000
END:DAYLIGHT
BEGIN:STANDARD
TZOFFSETFROM:+0200
TZOFFSETTO:+0100
TZNAME:CET
DTSTART:20261025T010000
END:STANDARD
END:VTIMEZONE
BEGIN:VEVENT
DTSTART;TZID=Europe/Paris:20250927T180000
DTEND;TZID=Europe/Paris:20250927T190000
DTSTAMP:20260422T063250
CREATED:20250806T141857Z
LAST-MODIFIED:20250813T102525Z
UID:85484-1758996000-1758999600@www.moissac.fr
SUMMARY:Chanter c'est aussi résister
DESCRIPTION:Chanter c’est aussi résister! Les Eclaireurs Israélites de France au cœur de la guerre. \n  \nCe spectacle fait découvrir l’histoire des enfants cachés de Moissac pendant la seconde guerre mondiale et l’action de résistance des Éclaireurs Israélites de France. \nCe spectacle\, Chanter c’est aussi résister ! Les EIF au coeur de la guerre aborde plusieurs thématiques: la résistance juive\, les enfants cachés\, leur quotidien\, le contexte intellectuel et artistique à l’époque\, et la libération lorsqu’elle parvient et la reconnaissance et la mémoire de ces actions\, aujourd’hui\, après-guerre. \nCe spectacle mêle chants\, témoignages\, textes d’archives et récits universels. Thierry de Capella\, conteur\, et Eugénie Berrocq-Irigoin\, chanteuse\, mêlent leur voix pour faire connaître cette histoire. \nCe projet co-produit par l’association Moissac Ville de Justes Oubliée a pour vocation de présenter cette part de notre histoire commune à tout un chacun. Il se déroulera dans la maison qui a accueilli les enfants à Moissac pendant la seconde guerre mondiale\, avec l’aimable autorisation de son propriétaire. \nDurée: 1h30 avec le bord de scène après spectacle \nRéservations obligatoires. Ouverture de la billetterie le 18 septembre: https://www.helloasso.com/associations/association-alfred-production/evenements/chanter-c-est-aussi-resister
URL:https://www.moissac.fr/evenement/chanter-cest-aussi-resister/
CATEGORIES:Tout l'agenda
ATTACH;FMTTYPE=image/jpeg:https://www.moissac.fr/wp-content/uploads/2025/08/affiche-moissac-sept2025-page001.jpeg
END:VEVENT
END:VCALENDAR