BEGIN:VCALENDAR
VERSION:2.0
PRODID:-//Ville de Moissac - ECPv6.15.15//NONSGML v1.0//EN
CALSCALE:GREGORIAN
METHOD:PUBLISH
X-WR-CALNAME:Ville de Moissac
X-ORIGINAL-URL:https://www.moissac.fr
X-WR-CALDESC:Évènements pour Ville de Moissac
REFRESH-INTERVAL;VALUE=DURATION:PT1H
X-Robots-Tag:noindex
X-PUBLISHED-TTL:PT1H
BEGIN:VTIMEZONE
TZID:Europe/Paris
BEGIN:DAYLIGHT
TZOFFSETFROM:+0100
TZOFFSETTO:+0200
TZNAME:CEST
DTSTART:20240331T010000
END:DAYLIGHT
BEGIN:STANDARD
TZOFFSETFROM:+0200
TZOFFSETTO:+0100
TZNAME:CET
DTSTART:20241027T010000
END:STANDARD
BEGIN:DAYLIGHT
TZOFFSETFROM:+0100
TZOFFSETTO:+0200
TZNAME:CEST
DTSTART:20250330T010000
END:DAYLIGHT
BEGIN:STANDARD
TZOFFSETFROM:+0200
TZOFFSETTO:+0100
TZNAME:CET
DTSTART:20251026T010000
END:STANDARD
BEGIN:DAYLIGHT
TZOFFSETFROM:+0100
TZOFFSETTO:+0200
TZNAME:CEST
DTSTART:20260329T010000
END:DAYLIGHT
BEGIN:STANDARD
TZOFFSETFROM:+0200
TZOFFSETTO:+0100
TZNAME:CET
DTSTART:20261025T010000
END:STANDARD
END:VTIMEZONE
BEGIN:VEVENT
DTSTART;TZID=Europe/Paris:20250913T203000
DTEND;TZID=Europe/Paris:20250913T233000
DTSTAMP:20260421T155750
CREATED:20250730T093845Z
LAST-MODIFIED:20250730T093845Z
UID:85382-1757795400-1757806200@www.moissac.fr
SUMMARY:Concours de chant "Chacun sa voix\, chacun sa chance"
DESCRIPTION:Une soirée unique organisée par l’APDSL pour révéler les talents et faire vibrer vos cœurs ! \nLa première partie de la soirée sera consacrée au concours de chant « Chacun sa voix\, chacun sa chance »\, où les gagnants présélectionnés présenteront leurs prestations. \nLe spectacle se poursuivra avec un jury exceptionnel qui chantera également sur scène. \nLe tout débutera à 20h30.
URL:https://www.moissac.fr/evenement/concours-de-chant-chacun-sa-voix-chacun-sa-chance/
LOCATION:Hall de Paris\, Place des Récollets\, Moissac\, France
CATEGORIES:Tout l'agenda
ATTACH;FMTTYPE=image/jpeg:https://www.moissac.fr/wp-content/uploads/2025/07/affiche-2-qualite-normal.jpg
END:VEVENT
END:VCALENDAR