BEGIN:VCALENDAR
VERSION:2.0
PRODID:-//Ville de Moissac - ECPv6.15.15//NONSGML v1.0//EN
CALSCALE:GREGORIAN
METHOD:PUBLISH
X-WR-CALNAME:Ville de Moissac
X-ORIGINAL-URL:https://www.moissac.fr
X-WR-CALDESC:Évènements pour Ville de Moissac
REFRESH-INTERVAL;VALUE=DURATION:PT1H
X-Robots-Tag:noindex
X-PUBLISHED-TTL:PT1H
BEGIN:VTIMEZONE
TZID:Europe/Paris
BEGIN:DAYLIGHT
TZOFFSETFROM:+0100
TZOFFSETTO:+0200
TZNAME:CEST
DTSTART:20240331T010000
END:DAYLIGHT
BEGIN:STANDARD
TZOFFSETFROM:+0200
TZOFFSETTO:+0100
TZNAME:CET
DTSTART:20241027T010000
END:STANDARD
BEGIN:DAYLIGHT
TZOFFSETFROM:+0100
TZOFFSETTO:+0200
TZNAME:CEST
DTSTART:20250330T010000
END:DAYLIGHT
BEGIN:STANDARD
TZOFFSETFROM:+0200
TZOFFSETTO:+0100
TZNAME:CET
DTSTART:20251026T010000
END:STANDARD
BEGIN:DAYLIGHT
TZOFFSETFROM:+0100
TZOFFSETTO:+0200
TZNAME:CEST
DTSTART:20260329T010000
END:DAYLIGHT
BEGIN:STANDARD
TZOFFSETFROM:+0200
TZOFFSETTO:+0100
TZNAME:CET
DTSTART:20261025T010000
END:STANDARD
END:VTIMEZONE
BEGIN:VEVENT
DTSTART;TZID=Europe/Paris:20250928T100000
DTEND;TZID=Europe/Paris:20250928T110000
DTSTAMP:20260422T113808
CREATED:20250905T123738Z
LAST-MODIFIED:20250905T123819Z
UID:86213-1759053600-1759057200@www.moissac.fr
SUMMARY:Dictée Géante de Moissac
DESCRIPTION:La Dictée Géante revient pour sa 5ᵉ édition ! \n\n\n\nPréparez vos plumes et vos esprits ! \n\n\n\nNous vous donnons rendez-vous pour une dictée pas comme les autres\, en plein air\, sur le majestueux parvis de l’Abbatiale \, dans un décor digne des plus grandes épopées…\n\n\n\n Dimanche 28 septembre à 10h\n Parvis de l’Abbatiale\n Participation gratuite – Ouvert à tous\, petits et grands (11 à 99 ans\, longueur adaptée aux différents âges) !\n\n Inscriptions ici : https://docs.google.com/forms/d/e/1FAIpQLSfBcNE8R-IZmTE3XZcngnrP2LI3STtYzC9rM3fv7cOqCB4knQ/viewform?fbclid=IwY2xjawMnt-9leHRuA2FlbQIxMABicmlkETEwTTVLd2poaDRBZkdMc250AR4tGLAIF8yIrJycZHekRxbmwsCMnT6l15ffaJbWizGgu1tTGcxKeXmaNnBbCQ_aem_5TGh73sJ24iMwcppdmfnZg&pli=1
URL:https://www.moissac.fr/evenement/dictee-geante-de-moissac/
LOCATION:Parvis de l’abbatiale\, Rue marcassus\, Moissac\, France
ATTACH;FMTTYPE=image/jpeg:https://www.moissac.fr/wp-content/uploads/2025/09/affiche-grande-dictee-2025.jpg
END:VEVENT
END:VCALENDAR