BEGIN:VCALENDAR
VERSION:2.0
PRODID:-//Ville de Moissac - ECPv6.15.15//NONSGML v1.0//EN
CALSCALE:GREGORIAN
METHOD:PUBLISH
X-WR-CALNAME:Ville de Moissac
X-ORIGINAL-URL:https://www.moissac.fr
X-WR-CALDESC:Évènements pour Ville de Moissac
REFRESH-INTERVAL;VALUE=DURATION:PT1H
X-Robots-Tag:noindex
X-PUBLISHED-TTL:PT1H
BEGIN:VTIMEZONE
TZID:Europe/Paris
BEGIN:DAYLIGHT
TZOFFSETFROM:+0100
TZOFFSETTO:+0200
TZNAME:CEST
DTSTART:20240331T010000
END:DAYLIGHT
BEGIN:STANDARD
TZOFFSETFROM:+0200
TZOFFSETTO:+0100
TZNAME:CET
DTSTART:20241027T010000
END:STANDARD
BEGIN:DAYLIGHT
TZOFFSETFROM:+0100
TZOFFSETTO:+0200
TZNAME:CEST
DTSTART:20250330T010000
END:DAYLIGHT
BEGIN:STANDARD
TZOFFSETFROM:+0200
TZOFFSETTO:+0100
TZNAME:CET
DTSTART:20251026T010000
END:STANDARD
BEGIN:DAYLIGHT
TZOFFSETFROM:+0100
TZOFFSETTO:+0200
TZNAME:CEST
DTSTART:20260329T010000
END:DAYLIGHT
BEGIN:STANDARD
TZOFFSETFROM:+0200
TZOFFSETTO:+0100
TZNAME:CET
DTSTART:20261025T010000
END:STANDARD
END:VTIMEZONE
BEGIN:VEVENT
DTSTART;TZID=Europe/Paris:20251002T203000
DTEND;TZID=Europe/Paris:20251002T223000
DTSTAMP:20260422T132933
CREATED:20250917T132609Z
LAST-MODIFIED:20250917T133432Z
UID:86391-1759437000-1759444200@www.moissac.fr
SUMMARY:Concert du duo corse "Fiuminale"
DESCRIPTION:Fiuminale est un duo formé par Maxime Merlandi et Jean Philippe Guissani. Après 20 ans passés au sein de l’ensemble polyphonique corse Barbara Furtuna et des centaines de concerts donnés à travers le monde\, les deux artistes se retrouvent pour partager les chants qui ont jalonné leur parcours. Chants traditionnels\, sacrés et créations\, ils nous racontent en musique une amitié de plus de 40 ans sans jamais tomber dans la nostalgie. C’est au pied du Capicorsu\, dans le Nebbiu où ils ont grandi qu’ils continuent à puiser leur inspiration\, nous racontant la Corse\, loin des clichés et des lieux communs. À travers un répertoire choisi\, ils égrènent avec passion les sentiments que procure une vie de musique et de rencontres. \n           \nConcert de Fiuminale le jeudi 2 octobre 2025 au Centre Culturel Jacques Delort (anc. Eglise St-Benoît) de Moissac (82) à 20h30 \n  \nBilletteries :  \nSur place dès 19h et en ligne sur www.fiuminale.com\nOuverture des portes à 20h – Placement libre – Tarif unique 16€ \nRenseignements : 04 95 37 64 21
URL:https://www.moissac.fr/evenement/duo-corse-fiuminale/
LOCATION:Eglise Saint-Benoit
CATEGORIES:Tout l'agenda
ATTACH;FMTTYPE=image/jpeg:https://www.moissac.fr/wp-content/uploads/2025/09/moissac-4-5.jpg
END:VEVENT
END:VCALENDAR