BEGIN:VCALENDAR
VERSION:2.0
PRODID:-//Ville de Moissac - ECPv6.15.15//NONSGML v1.0//EN
CALSCALE:GREGORIAN
METHOD:PUBLISH
X-WR-CALNAME:Ville de Moissac
X-ORIGINAL-URL:https://www.moissac.fr
X-WR-CALDESC:Évènements pour Ville de Moissac
REFRESH-INTERVAL;VALUE=DURATION:PT1H
X-Robots-Tag:noindex
X-PUBLISHED-TTL:PT1H
BEGIN:VTIMEZONE
TZID:Europe/Paris
BEGIN:DAYLIGHT
TZOFFSETFROM:+0100
TZOFFSETTO:+0200
TZNAME:CEST
DTSTART:20240331T010000
END:DAYLIGHT
BEGIN:STANDARD
TZOFFSETFROM:+0200
TZOFFSETTO:+0100
TZNAME:CET
DTSTART:20241027T010000
END:STANDARD
BEGIN:DAYLIGHT
TZOFFSETFROM:+0100
TZOFFSETTO:+0200
TZNAME:CEST
DTSTART:20250330T010000
END:DAYLIGHT
BEGIN:STANDARD
TZOFFSETFROM:+0200
TZOFFSETTO:+0100
TZNAME:CET
DTSTART:20251026T010000
END:STANDARD
BEGIN:DAYLIGHT
TZOFFSETFROM:+0100
TZOFFSETTO:+0200
TZNAME:CEST
DTSTART:20260329T010000
END:DAYLIGHT
BEGIN:STANDARD
TZOFFSETFROM:+0200
TZOFFSETTO:+0100
TZNAME:CET
DTSTART:20261025T010000
END:STANDARD
END:VTIMEZONE
BEGIN:VEVENT
DTSTART;VALUE=DATE:20251004
DTEND;VALUE=DATE:20251005
DTSTAMP:20260422T163933
CREATED:20250922T092249Z
LAST-MODIFIED:20250922T092249Z
UID:86437-1759536000-1759622399@www.moissac.fr
SUMMARY:Festitrail Moissac
DESCRIPTION:Le FESTITRAIL est une manifestation sportive de courses à pieds organisée par MOISSAC ATHLE. \nLe FESTITRAIL se déroulera sur une journée\, celle du Samedi 4 Octobre 2025. Elle est une manifestation\, composée de trois courses : \n\nle parcours de l’enfer 1\,2 Km\,\nle trail du chasselas 8 Km\,\nles côteaux de Moissac 15 Km.\nle Challenge Moissagais est un cumul entre le Parcours de l’Enfer et Les côteaux de Moissac\n\nAinsi que : \n\nles marches de 8 km et de 5 km\,\nles courses enfants.\n\nFESTITRAIL MOISSAC \n \n 
URL:https://www.moissac.fr/evenement/festitrail-moissac/
CATEGORIES:Tout l'agenda
ATTACH;FMTTYPE=image/jpeg:https://www.moissac.fr/wp-content/uploads/2025/09/festitrail.jpg
END:VEVENT
END:VCALENDAR