BEGIN:VCALENDAR
VERSION:2.0
PRODID:-//Ville de Moissac - ECPv6.15.15//NONSGML v1.0//EN
CALSCALE:GREGORIAN
METHOD:PUBLISH
X-WR-CALNAME:Ville de Moissac
X-ORIGINAL-URL:https://www.moissac.fr
X-WR-CALDESC:Évènements pour Ville de Moissac
REFRESH-INTERVAL;VALUE=DURATION:PT1H
X-Robots-Tag:noindex
X-PUBLISHED-TTL:PT1H
BEGIN:VTIMEZONE
TZID:Europe/Paris
BEGIN:DAYLIGHT
TZOFFSETFROM:+0100
TZOFFSETTO:+0200
TZNAME:CEST
DTSTART:20240331T010000
END:DAYLIGHT
BEGIN:STANDARD
TZOFFSETFROM:+0200
TZOFFSETTO:+0100
TZNAME:CET
DTSTART:20241027T010000
END:STANDARD
BEGIN:DAYLIGHT
TZOFFSETFROM:+0100
TZOFFSETTO:+0200
TZNAME:CEST
DTSTART:20250330T010000
END:DAYLIGHT
BEGIN:STANDARD
TZOFFSETFROM:+0200
TZOFFSETTO:+0100
TZNAME:CET
DTSTART:20251026T010000
END:STANDARD
BEGIN:DAYLIGHT
TZOFFSETFROM:+0100
TZOFFSETTO:+0200
TZNAME:CEST
DTSTART:20260329T010000
END:DAYLIGHT
BEGIN:STANDARD
TZOFFSETFROM:+0200
TZOFFSETTO:+0100
TZNAME:CET
DTSTART:20261025T010000
END:STANDARD
END:VTIMEZONE
BEGIN:VEVENT
DTSTART;TZID=Europe/Paris:20250921T103000
DTEND;TZID=Europe/Paris:20250921T114500
DTSTAMP:20260421T191121
CREATED:20250825T115640Z
LAST-MODIFIED:20250902T154943Z
UID:85816-1758450600-1758455100@www.moissac.fr
SUMMARY:VISITE des Journées du Patrimoine - L’église Saint-Martin
DESCRIPTION:Découvrez le site le plus ancien de Moissac\, sauvé in extremis de la destruction… Grâce aux images d’archives et à des reconstitutions 3D\, laissez-vous conter l’histoire de ce monument\, des bains antiques aux fouilles archéologiques récentes\, sans oublier sa chapelle ornée de peintures murales du 15e siècle. \nDimanche 21 Septembre à 10h30\nGRATUIT \nRéservation obligatoire : 05 63 04 01 85\nRdv devant l’église Saint-Martin\, av de Gascogne
URL:https://www.moissac.fr/evenement/journees-du-patrimoine-leglise-saint-martin-2/
LOCATION:Eglise Saint-Martin
CATEGORIES:Culture,Tout l'agenda
ATTACH;FMTTYPE=image/jpeg:https://www.moissac.fr/wp-content/uploads/2024/01/11.st-martin-c-chourrau-loran-scaled.jpg
END:VEVENT
END:VCALENDAR