BEGIN:VCALENDAR
VERSION:2.0
PRODID:-//Ville de Moissac - ECPv6.15.15//NONSGML v1.0//EN
CALSCALE:GREGORIAN
METHOD:PUBLISH
X-WR-CALNAME:Ville de Moissac
X-ORIGINAL-URL:https://www.moissac.fr
X-WR-CALDESC:Évènements pour Ville de Moissac
REFRESH-INTERVAL;VALUE=DURATION:PT1H
X-Robots-Tag:noindex
X-PUBLISHED-TTL:PT1H
BEGIN:VTIMEZONE
TZID:Europe/Paris
BEGIN:DAYLIGHT
TZOFFSETFROM:+0100
TZOFFSETTO:+0200
TZNAME:CEST
DTSTART:20240331T010000
END:DAYLIGHT
BEGIN:STANDARD
TZOFFSETFROM:+0200
TZOFFSETTO:+0100
TZNAME:CET
DTSTART:20241027T010000
END:STANDARD
BEGIN:DAYLIGHT
TZOFFSETFROM:+0100
TZOFFSETTO:+0200
TZNAME:CEST
DTSTART:20250330T010000
END:DAYLIGHT
BEGIN:STANDARD
TZOFFSETFROM:+0200
TZOFFSETTO:+0100
TZNAME:CET
DTSTART:20251026T010000
END:STANDARD
BEGIN:DAYLIGHT
TZOFFSETFROM:+0100
TZOFFSETTO:+0200
TZNAME:CEST
DTSTART:20260329T010000
END:DAYLIGHT
BEGIN:STANDARD
TZOFFSETFROM:+0200
TZOFFSETTO:+0100
TZNAME:CET
DTSTART:20261025T010000
END:STANDARD
END:VTIMEZONE
BEGIN:VEVENT
DTSTART;TZID=Europe/Paris:20251006T080000
DTEND;TZID=Europe/Paris:20251018T170000
DTSTAMP:20260422T225556
CREATED:20250917T130317Z
LAST-MODIFIED:20250917T131026Z
UID:86380-1759737600-1760806800@www.moissac.fr
SUMMARY:Journées France services
DESCRIPTION:Journées France services – du 6 au 18 octobre 2025\n\n\n \n\n\n Rendez-vous à la Maison municipale France services de Moissac pour découvrir et profiter de nombreux ateliers et rencontres autour de vos services publics !\n\n\n \n\n\n Adresse : 18 ter Avenue du Dr Rouanet – 82200 Moissac\n\n\nTel : 09 70 21 44 82\n\n\nMail : mairie-franceservicesmoissac@moissac.fr\n\n\n \n\n\n️Programme :\n\n\n \n\n\n\nMardi 7 octobre → CAUE – FRANCE RENOV (14h30/16h30)\n\n\n\n \n\n\n\nJeudi 9 octobre → Rencontre France services – Espace et vie (14h/16h30)\n\n\n\n \n\n\n\nVendredi 10 octobre → Les séniors connectés de la MSA (11h/12h30)\n\n\n\n \n\n\n\nDimanche 12 octobre → France services fait son marché (09h/13h)\n\n\n\n \n\n\n\nLundi 13 octobre → Webinaire régional CARSAT (14h/16h)\n\n\n\n \n\n\n\nMercredi 15 octobre → DDFIP (09h30/11h30)\n\n\n\n \n\n\n\nJeudi 16 octobre → Rencontre France services – Espace et vie (14h/16h30)\n\n\n  \n  \n\n Venez poser vos questions\, rencontrer nos partenaires et découvrir tous les services qui vous accompagnent au quotidien.
URL:https://www.moissac.fr/evenement/journees-france-services/
LOCATION:Maison municipale France Services\, 18 ter Avenue du Dr Rouanet\, Moissac\, 82200\, France
CATEGORIES:Tout l'agenda
ATTACH;FMTTYPE=image/jpeg:https://www.moissac.fr/wp-content/uploads/2025/09/journees-france-services.jpg
END:VEVENT
END:VCALENDAR