BEGIN:VCALENDAR
VERSION:2.0
PRODID:-//Ville de Moissac - ECPv6.15.15//NONSGML v1.0//EN
CALSCALE:GREGORIAN
METHOD:PUBLISH
X-WR-CALNAME:Ville de Moissac
X-ORIGINAL-URL:https://www.moissac.fr
X-WR-CALDESC:Évènements pour Ville de Moissac
REFRESH-INTERVAL;VALUE=DURATION:PT1H
X-Robots-Tag:noindex
X-PUBLISHED-TTL:PT1H
BEGIN:VTIMEZONE
TZID:Europe/Paris
BEGIN:DAYLIGHT
TZOFFSETFROM:+0100
TZOFFSETTO:+0200
TZNAME:CEST
DTSTART:20240331T010000
END:DAYLIGHT
BEGIN:STANDARD
TZOFFSETFROM:+0200
TZOFFSETTO:+0100
TZNAME:CET
DTSTART:20241027T010000
END:STANDARD
BEGIN:DAYLIGHT
TZOFFSETFROM:+0100
TZOFFSETTO:+0200
TZNAME:CEST
DTSTART:20250330T010000
END:DAYLIGHT
BEGIN:STANDARD
TZOFFSETFROM:+0200
TZOFFSETTO:+0100
TZNAME:CET
DTSTART:20251026T010000
END:STANDARD
BEGIN:DAYLIGHT
TZOFFSETFROM:+0100
TZOFFSETTO:+0200
TZNAME:CEST
DTSTART:20260329T010000
END:DAYLIGHT
BEGIN:STANDARD
TZOFFSETFROM:+0200
TZOFFSETTO:+0100
TZNAME:CET
DTSTART:20261025T010000
END:STANDARD
END:VTIMEZONE
BEGIN:VEVENT
DTSTART;TZID=Europe/Paris:20251006T080000
DTEND;TZID=Europe/Paris:20251010T170000
DTSTAMP:20260422T183047
CREATED:20250902T092704Z
LAST-MODIFIED:20250902T092704Z
UID:86150-1759737600-1760115600@www.moissac.fr
SUMMARY:La semaine bleue
DESCRIPTION:Semaine Bleue à Moissac – du 6 au 10 octobre  \nUne semaine d’ateliers\, conférences\, jeux et animations pour bien vieillir et partager entre générations ✨ \n️ Temps fort à ne pas manquer ! Repas musical – “Les aînés\, tous à table !” Lundi 6 octobre – 12h à 16h30\, Hall de Paris Ambiance conviviale et musicale 15 € par personne Inscriptions obligatoires avant le 26 septembre au CCAS : 05 63 04 63 90 \n Tout au long de la semaine : ateliers santé\, escape game\, conférences\, animations musicales et rencontres intergénérationnelles. \nProgramme complet :
URL:https://www.moissac.fr/evenement/la-semaine-bleue/
CATEGORIES:Tout l'agenda
ATTACH;FMTTYPE=image/jpeg:https://www.moissac.fr/wp-content/uploads/2025/09/moissac-semaine-bleue-2025.jpg
END:VEVENT
END:VCALENDAR