BEGIN:VCALENDAR
VERSION:2.0
PRODID:-//Ville de Moissac - ECPv6.15.15//NONSGML v1.0//EN
CALSCALE:GREGORIAN
METHOD:PUBLISH
X-WR-CALNAME:Ville de Moissac
X-ORIGINAL-URL:https://www.moissac.fr
X-WR-CALDESC:Évènements pour Ville de Moissac
REFRESH-INTERVAL;VALUE=DURATION:PT1H
X-Robots-Tag:noindex
X-PUBLISHED-TTL:PT1H
BEGIN:VTIMEZONE
TZID:Europe/Paris
BEGIN:DAYLIGHT
TZOFFSETFROM:+0100
TZOFFSETTO:+0200
TZNAME:CEST
DTSTART:20240331T010000
END:DAYLIGHT
BEGIN:STANDARD
TZOFFSETFROM:+0200
TZOFFSETTO:+0100
TZNAME:CET
DTSTART:20241027T010000
END:STANDARD
BEGIN:DAYLIGHT
TZOFFSETFROM:+0100
TZOFFSETTO:+0200
TZNAME:CEST
DTSTART:20250330T010000
END:DAYLIGHT
BEGIN:STANDARD
TZOFFSETFROM:+0200
TZOFFSETTO:+0100
TZNAME:CET
DTSTART:20251026T010000
END:STANDARD
BEGIN:DAYLIGHT
TZOFFSETFROM:+0100
TZOFFSETTO:+0200
TZNAME:CEST
DTSTART:20260329T010000
END:DAYLIGHT
BEGIN:STANDARD
TZOFFSETFROM:+0200
TZOFFSETTO:+0100
TZNAME:CET
DTSTART:20261025T010000
END:STANDARD
END:VTIMEZONE
BEGIN:VEVENT
DTSTART;TZID=Europe/Paris:20250927T203000
DTEND;TZID=Europe/Paris:20250927T220000
DTSTAMP:20260422T091418
CREATED:20250625T133606Z
LAST-MODIFIED:20250903T091309Z
UID:84879-1759005000-1759010400@www.moissac.fr
SUMMARY:SPECTACLE HUMOUR - Sellig : Episode 6
DESCRIPTION:Sellig va encore plus loin dans l’exploration du quotidien\, et décortique avec un humour piquant et une précision diabolique des situations en apparences banales\, qui sont en réalité bien plus complexes que ce qu’elles laissent paraître. \nJe réserve ma place !
URL:https://www.moissac.fr/evenement/spectacle-humour-selig-episode-6/
LOCATION:Hall de Paris\, Place des Récollets\, Moissac\, France
CATEGORIES:Tout l'agenda
ATTACH;FMTTYPE=image/jpeg:https://www.moissac.fr/wp-content/uploads/2025/06/programme1033.jpg
END:VEVENT
END:VCALENDAR