BEGIN:VCALENDAR
VERSION:2.0
PRODID:-//Ville de Moissac - ECPv6.15.15//NONSGML v1.0//EN
CALSCALE:GREGORIAN
METHOD:PUBLISH
X-WR-CALNAME:Ville de Moissac
X-ORIGINAL-URL:https://www.moissac.fr
X-WR-CALDESC:Évènements pour Ville de Moissac
REFRESH-INTERVAL;VALUE=DURATION:PT1H
X-Robots-Tag:noindex
X-PUBLISHED-TTL:PT1H
BEGIN:VTIMEZONE
TZID:Europe/Paris
BEGIN:DAYLIGHT
TZOFFSETFROM:+0100
TZOFFSETTO:+0200
TZNAME:CEST
DTSTART:20240331T010000
END:DAYLIGHT
BEGIN:STANDARD
TZOFFSETFROM:+0200
TZOFFSETTO:+0100
TZNAME:CET
DTSTART:20241027T010000
END:STANDARD
BEGIN:DAYLIGHT
TZOFFSETFROM:+0100
TZOFFSETTO:+0200
TZNAME:CEST
DTSTART:20250330T010000
END:DAYLIGHT
BEGIN:STANDARD
TZOFFSETFROM:+0200
TZOFFSETTO:+0100
TZNAME:CET
DTSTART:20251026T010000
END:STANDARD
BEGIN:DAYLIGHT
TZOFFSETFROM:+0100
TZOFFSETTO:+0200
TZNAME:CEST
DTSTART:20260329T010000
END:DAYLIGHT
BEGIN:STANDARD
TZOFFSETFROM:+0200
TZOFFSETTO:+0100
TZNAME:CET
DTSTART:20261025T010000
END:STANDARD
END:VTIMEZONE
BEGIN:VEVENT
DTSTART;TZID=Europe/Paris:20251003T203000
DTEND;TZID=Europe/Paris:20251003T223000
DTSTAMP:20260422T145626
CREATED:20250827T091902Z
LAST-MODIFIED:20250827T091902Z
UID:85864-1759523400-1759530600@www.moissac.fr
SUMMARY:Théâtre - Sherlock Holmes et l'aventure du diamant bleu
DESCRIPTION:Sherlock et le docteur Watson enquêtent sur la curieuse disparition d’un diamant d’exception dans une chambre d’hôtel… Venez participer à cette enquête interactive à l’humour british. Trois comédiens\, dix personnages\, une dinde ! « The Adventure of the blue Carbuncle » est l’une des 56 nouvelles mettant en scène le détective Sherlock Holmes. Parue pour la première fois en 1892\, cette nouvelle n’avait jamais été adaptée au théâtre. C’est chose faite. \nMise en scène Christophe Delort \nRéservation sur Festik\nTarif Plein : 15€\nTarif Réduit : 10€\nTarif moins de 12 ans : 4€ \nTout public.
URL:https://www.moissac.fr/evenement/theatre-sherlock-holmes-et-laventure-du-diamant-bleu/
LOCATION:Hall de Paris\, Place des Récollets\, Moissac\, France
CATEGORIES:Tout l'agenda
ATTACH;FMTTYPE=image/jpeg:https://www.moissac.fr/wp-content/uploads/2025/08/saison-culturelle-2025-202613.jpg
END:VEVENT
END:VCALENDAR