BEGIN:VCALENDAR
VERSION:2.0
PRODID:-//Ville de Moissac - ECPv6.15.15//NONSGML v1.0//EN
CALSCALE:GREGORIAN
METHOD:PUBLISH
X-WR-CALNAME:Ville de Moissac
X-ORIGINAL-URL:https://www.moissac.fr
X-WR-CALDESC:Évènements pour Ville de Moissac
REFRESH-INTERVAL;VALUE=DURATION:PT1H
X-Robots-Tag:noindex
X-PUBLISHED-TTL:PT1H
BEGIN:VTIMEZONE
TZID:Europe/Paris
BEGIN:DAYLIGHT
TZOFFSETFROM:+0100
TZOFFSETTO:+0200
TZNAME:CEST
DTSTART:20240331T010000
END:DAYLIGHT
BEGIN:STANDARD
TZOFFSETFROM:+0200
TZOFFSETTO:+0100
TZNAME:CET
DTSTART:20241027T010000
END:STANDARD
BEGIN:DAYLIGHT
TZOFFSETFROM:+0100
TZOFFSETTO:+0200
TZNAME:CEST
DTSTART:20250330T010000
END:DAYLIGHT
BEGIN:STANDARD
TZOFFSETFROM:+0200
TZOFFSETTO:+0100
TZNAME:CET
DTSTART:20251026T010000
END:STANDARD
BEGIN:DAYLIGHT
TZOFFSETFROM:+0100
TZOFFSETTO:+0200
TZNAME:CEST
DTSTART:20260329T010000
END:DAYLIGHT
BEGIN:STANDARD
TZOFFSETFROM:+0200
TZOFFSETTO:+0100
TZNAME:CET
DTSTART:20261025T010000
END:STANDARD
END:VTIMEZONE
BEGIN:VEVENT
DTSTART;VALUE=DATE:20250707
DTEND;VALUE=DATE:20250922
DTSTAMP:20260421T175636
CREATED:20250607T101529Z
LAST-MODIFIED:20250607T101529Z
UID:83991-1751846400-1758499199@www.moissac.fr
SUMMARY:Exposition - Le Moyen Âge vu par Loran Chourrau
DESCRIPTION:Cet artiste met en lumière des éléments du patrimoine médiéval de Moissac. Du macro au microscopique\, du global au détail\, il crée une exposition photographique en plein air en jouant sur différents formats\, éveillant la curiosité pour reconnaître ou chercher dans la ville tels ou tels éléments\, monuments ou détails d’architecture… Art médiéval transfiguré par le regard du photographe\, une autre manière de percevoir le patrimoine. \nDu 7 juillet au 21 septembre \nGRATUIT\nAu « Patus » – jardin de l’abbaye
URL:https://www.moissac.fr/evenement/exposition-le-moyen-age-vu-par-loran-chourrau/
LOCATION:Patus
CATEGORIES:Culture,Tout l'agenda
ATTACH;FMTTYPE=image/jpeg:https://www.moissac.fr/wp-content/uploads/2025/06/38.-expo-loran-chourrau.jpg
END:VEVENT
BEGIN:VEVENT
DTSTART;VALUE=DATE:20250915
DTEND;VALUE=DATE:20251104
DTSTAMP:20260421T175636
CREATED:20250924T090539Z
LAST-MODIFIED:20250924T090556Z
UID:86472-1757894400-1762214399@www.moissac.fr
SUMMARY:Exposition - Nos arbres remarquables
DESCRIPTION:L’exposition « Nos arbres remarquables » est issue d’un concours photo organisé en 2023 par le CAUE82 et auquel 53 personnes ont participé. L’impact du changement climatique sur nos modes de vie nous amène à replacer la nature au centre de nos préoccupations et repenser les végétaux\, comme éléments bienfaiteurs\, qu’il convient de protéger. Avec cette exposition\, l’arbre en devient l’emblème. Les 21 photographes lauréats nous le présentent de manière sensible ou pittoresque mais souvent en lien avec des souvenirs d’enfance. \nDu 15 septembre au 3 novembre \nCloître de Moissac \nInclus dans le billet d’entrée
URL:https://www.moissac.fr/evenement/exposition-nos-arbres-remarquables/
LOCATION:Cloître\, Place Durand de Bredon\, Moissac\, France
CATEGORIES:Culture,Tout l'agenda
ATTACH;FMTTYPE=image/jpeg:https://www.moissac.fr/wp-content/uploads/2025/09/musee-moissac-exposition-caue-arbres-remarquables.jpg
END:VEVENT
BEGIN:VEVENT
DTSTART;VALUE=DATE:20250920
DTEND;VALUE=DATE:20250921
DTSTAMP:20260421T175636
CREATED:20250825T115150Z
LAST-MODIFIED:20250825T115150Z
UID:85808-1758326400-1758412799@www.moissac.fr
SUMMARY:Journées du Patrimoine - Initiation jeu de rôle « Vade Retro Satanas »
DESCRIPTION:Venez vous initiez aux jeux de rôles avec Tribute\, un jeu qui utilise des cartes à jouer (cœur\, carreau etc…). Votre adversaire ? Le Diable en personne ! \nL’abbaye de Moissac est en proie au tourment : les moines semblent possédés par le démon ! Vous aurez une heure pour mener à bien votre exorcisme et comprendre ce qui se cache derrière cette curieuse épidémie. \nSamedi 20 septembre\nGRATUIT – 11h / 16h / 18h \n3 sessions – 3 personnes/session – 10 ans minimum.\nRéservation obligatoire : 05 63 04 01 85
URL:https://www.moissac.fr/evenement/journees-du-patrimoine-initiation-jeu-de-role-vade-retro-satanas/
LOCATION:Cloître\, Place Durand de Bredon\, Moissac\, France
CATEGORIES:Culture,Tout l'agenda
ATTACH;FMTTYPE=image/jpeg:https://www.moissac.fr/wp-content/uploads/2025/08/44.-initiation-jeu-de-role-tribute-002.jpg
END:VEVENT
BEGIN:VEVENT
DTSTART;VALUE=DATE:20250920
DTEND;VALUE=DATE:20250922
DTSTAMP:20260421T175636
CREATED:20250825T114532Z
LAST-MODIFIED:20250919T063346Z
UID:85802-1758326400-1758499199@www.moissac.fr
SUMMARY:Journées du Patrimoine - Jeux anciens avec la ludothèque !
DESCRIPTION:Découvrez et amusez avec les jeux anciens de la ludothèque dans le cloître. Une petite exposition vous fera en plus voyager autour du monde à travers les jeux. \nSamedi 20 et dimanche 21 septembre \n10h-12h / 13h-19h \nInclus dans la visite du cloître
URL:https://www.moissac.fr/evenement/journees-du-patrimoine-jeux-anciens-avec-lasso-tour-de-jeux/
LOCATION:Cloître\, Place Durand de Bredon\, Moissac\, France
CATEGORIES:Culture,Tout l'agenda
ATTACH;FMTTYPE=image/jpeg:https://www.moissac.fr/wp-content/uploads/2025/08/42.-tour-de-jeux.jpg
END:VEVENT
BEGIN:VEVENT
DTSTART;VALUE=DATE:20250920
DTEND;VALUE=DATE:20250922
DTSTAMP:20260421T175636
CREATED:20250825T114853Z
LAST-MODIFIED:20250902T154450Z
UID:85805-1758326400-1758499199@www.moissac.fr
SUMMARY:CHASSE AU TRÉSOR des Journées du Patrimoine
DESCRIPTION:Partez en groupe ou en famille résoudre les énigmes à travers la cité de Moissac et\, peut-être\, finirez-vous par trouver le trésor ! \nIl vous faudra explorer la ville\, faire appel à votre sens de l’observation\, vos capacités d’analyse mais aussi votre dextérité… Tout le monde est mis à contribution pour avancer dans cette quête ! Une manière insolite et ludique pour découvrir Moissac du cloître aux berges du Tarn tout en s’amusant. \nSamedi 20 et dimanche 21 septembre\nDe 10h à 17h (17h dernier départ) \nDurée : 1h30 à 2h\nA partir de 6 ans \n3€ par groupe
URL:https://www.moissac.fr/evenement/journees-du-patrimoine-chasse-au-tresor/
LOCATION:différents lieux en ville
CATEGORIES:Culture,Tout l'agenda
ATTACH;FMTTYPE=image/jpeg:https://www.moissac.fr/wp-content/uploads/2025/08/43.-chasse-au-tresor.jpg
END:VEVENT
BEGIN:VEVENT
DTSTART;TZID=Europe/Paris:20250920T103000
DTEND;TZID=Europe/Paris:20250920T114500
DTSTAMP:20260421T175636
CREATED:20250825T115623Z
LAST-MODIFIED:20250902T154557Z
UID:85814-1758364200-1758368700@www.moissac.fr
SUMMARY:VISITE des Journées du Patrimoine - L’église Saint-Martin
DESCRIPTION:Découvrez le site le plus ancien de Moissac\, sauvé in extremis de la destruction… Grâce aux images d’archives et à des reconstitutions 3D\, laissez-vous conter l’histoire de ce monument\, des bains antiques aux fouilles archéologiques récentes\, sans oublier sa chapelle ornée de peintures murales du 15e siècle. \nSamedi 20 Septembre à 10h30\nGRATUIT \nRéservation obligatoire : 05 63 04 01 85\nRdv devant l’église Saint-Martin\, av de Gascogne
URL:https://www.moissac.fr/evenement/journees-du-patrimoine-leglise-saint-martin/
LOCATION:Eglise Saint-Martin
CATEGORIES:Culture,Tout l'agenda
ATTACH;FMTTYPE=image/jpeg:https://www.moissac.fr/wp-content/uploads/2024/01/11.st-martin-c-chourrau-loran-scaled.jpg
END:VEVENT
BEGIN:VEVENT
DTSTART;TZID=Europe/Paris:20250920T143000
DTEND;TZID=Europe/Paris:20250920T154500
DTSTAMP:20260421T175636
CREATED:20250825T115930Z
LAST-MODIFIED:20250902T154636Z
UID:85818-1758378600-1758383100@www.moissac.fr
SUMMARY:VISITE des Journées du Patrimoine - L’église Sainte-Catherine et le baroque
DESCRIPTION:L’histoire de l’église Sainte-Catherine est celle des marins de Moissac. De ce monument\, conservant un magnifique retable baroque\, le guide vous mènera au pied du pont Napoléon pour vous parler de l’ancien port de la ville. \nSamedi 20 Septembre à 14h30 \nGRATUIT – rdv à l’église Sainte-Catherine\, boulevard Lakanal\nRenseignements : 05 63 04 01 85
URL:https://www.moissac.fr/evenement/journees-du-patrimoine-leglise-sainte-catherine-et-le-baroque/
LOCATION:Eglise Sainte-Catherine
CATEGORIES:Culture,Tout l'agenda
ATTACH;FMTTYPE=image/jpeg:https://www.moissac.fr/wp-content/uploads/2023/06/46.-baroque-ste-catherine-cs.-broussodier-9-copie.jpg
END:VEVENT
BEGIN:VEVENT
DTSTART;TZID=Europe/Paris:20250920T170000
DTEND;TZID=Europe/Paris:20250920T180000
DTSTAMP:20260421T175636
CREATED:20250825T120417Z
LAST-MODIFIED:20250902T154201Z
UID:85822-1758387600-1758391200@www.moissac.fr
SUMMARY:CONFÉRENCE Journées du Patrimoine - Les découvertes archéologiques de l’Abbaye
DESCRIPTION:Conférence par Yoan MATTALIA – 17h \nDepuis plusieurs années\, l’abbaye fait l’objet de recherches archéologiques. Yoan MATTALIA nous présente un bilan de ces interventions mais aussi ce qu’elles ont permis de nous révéler sur le passé de ce monument millénaire\, voire de ses origines ! \nGRATUIT – Hall de Paris\nSuivi par une deuxième conférence à 18h et le verre de l’amitié ! \nRenseignements : 05 63 04 01 85
URL:https://www.moissac.fr/evenement/journees-du-patrimoine-les-decouvertes-archeologiques-de-labbaye/
LOCATION:Hall de Paris\, Place des Récollets\, Moissac\, France
CATEGORIES:Culture,Tout l'agenda
ATTACH;FMTTYPE=image/jpeg:https://www.moissac.fr/wp-content/uploads/2025/08/20240409_111059-1.jpg
END:VEVENT
BEGIN:VEVENT
DTSTART;TZID=Europe/Paris:20250920T180000
DTEND;TZID=Europe/Paris:20250920T190000
DTSTAMP:20260421T175636
CREATED:20250825T120646Z
LAST-MODIFIED:20250902T154308Z
UID:85826-1758391200-1758394800@www.moissac.fr
SUMMARY:CONFÉRENCE Journées du Patrimoine - La chanson de sainte Foy
DESCRIPTION:Conférence par Valérie FASSEUR – 18h \nComposée au XIe siècle\, quelques décennies avant les premiers poèmes des troubadours\, la Chanson de sainte Foy est la première œuvre littéraire en occitan. Elle raconte le martyre que la jeune sainte de douze ans subit à Agen en 303\, puis le châtiment des persécuteurs païens. L’historienne Valérie FASSEUR nous présente ce somptueux monument de la civilisation médiévale méridionale qui aurait était écrit par un moine mais… de Moissac ? La conférence sera suivie d’une séance de dédicace en partenariat avec la librairie Ancrier. \nSamedi 20 Septembre\nGRATUIT – Hall de Paris \nPrécédée par la conférence de Yoann Mattalia\nSuivi par une séance de dédicace et le verre de l’amitié ! \nRenseignements : 05 63 04 01 85
URL:https://www.moissac.fr/evenement/journees-du-patrimoine-la-chanson-de-sainte-foy/
LOCATION:Hall de Paris\, Place des Récollets\, Moissac\, France
CATEGORIES:Culture,Tout l'agenda
ATTACH;FMTTYPE=image/jpeg:https://www.moissac.fr/wp-content/uploads/2025/08/48.-chanson-de-sainte-foy.jpg
END:VEVENT
END:VCALENDAR