BEGIN:VCALENDAR
VERSION:2.0
PRODID:-//Ville de Moissac - ECPv6.15.15//NONSGML v1.0//EN
CALSCALE:GREGORIAN
METHOD:PUBLISH
X-WR-CALNAME:Ville de Moissac
X-ORIGINAL-URL:https://www.moissac.fr
X-WR-CALDESC:Évènements pour Ville de Moissac
REFRESH-INTERVAL;VALUE=DURATION:PT1H
X-Robots-Tag:noindex
X-PUBLISHED-TTL:PT1H
BEGIN:VTIMEZONE
TZID:Europe/Paris
BEGIN:DAYLIGHT
TZOFFSETFROM:+0100
TZOFFSETTO:+0200
TZNAME:CEST
DTSTART:20240331T010000
END:DAYLIGHT
BEGIN:STANDARD
TZOFFSETFROM:+0200
TZOFFSETTO:+0100
TZNAME:CET
DTSTART:20241027T010000
END:STANDARD
BEGIN:DAYLIGHT
TZOFFSETFROM:+0100
TZOFFSETTO:+0200
TZNAME:CEST
DTSTART:20250330T010000
END:DAYLIGHT
BEGIN:STANDARD
TZOFFSETFROM:+0200
TZOFFSETTO:+0100
TZNAME:CET
DTSTART:20251026T010000
END:STANDARD
BEGIN:DAYLIGHT
TZOFFSETFROM:+0100
TZOFFSETTO:+0200
TZNAME:CEST
DTSTART:20260329T010000
END:DAYLIGHT
BEGIN:STANDARD
TZOFFSETFROM:+0200
TZOFFSETTO:+0100
TZNAME:CET
DTSTART:20261025T010000
END:STANDARD
END:VTIMEZONE
BEGIN:VEVENT
DTSTART;VALUE=DATE:20250707
DTEND;VALUE=DATE:20250922
DTSTAMP:20260421T153520
CREATED:20250607T101529Z
LAST-MODIFIED:20250607T101529Z
UID:83991-1751846400-1758499199@www.moissac.fr
SUMMARY:Exposition - Le Moyen Âge vu par Loran Chourrau
DESCRIPTION:Cet artiste met en lumière des éléments du patrimoine médiéval de Moissac. Du macro au microscopique\, du global au détail\, il crée une exposition photographique en plein air en jouant sur différents formats\, éveillant la curiosité pour reconnaître ou chercher dans la ville tels ou tels éléments\, monuments ou détails d’architecture… Art médiéval transfiguré par le regard du photographe\, une autre manière de percevoir le patrimoine. \nDu 7 juillet au 21 septembre \nGRATUIT\nAu « Patus » – jardin de l’abbaye
URL:https://www.moissac.fr/evenement/exposition-le-moyen-age-vu-par-loran-chourrau/
LOCATION:Patus
CATEGORIES:Culture,Tout l'agenda
ATTACH;FMTTYPE=image/jpeg:https://www.moissac.fr/wp-content/uploads/2025/06/38.-expo-loran-chourrau.jpg
END:VEVENT
BEGIN:VEVENT
DTSTART;VALUE=DATE:20250915
DTEND;VALUE=DATE:20251104
DTSTAMP:20260421T153520
CREATED:20250924T090539Z
LAST-MODIFIED:20250924T090556Z
UID:86472-1757894400-1762214399@www.moissac.fr
SUMMARY:Exposition - Nos arbres remarquables
DESCRIPTION:L’exposition « Nos arbres remarquables » est issue d’un concours photo organisé en 2023 par le CAUE82 et auquel 53 personnes ont participé. L’impact du changement climatique sur nos modes de vie nous amène à replacer la nature au centre de nos préoccupations et repenser les végétaux\, comme éléments bienfaiteurs\, qu’il convient de protéger. Avec cette exposition\, l’arbre en devient l’emblème. Les 21 photographes lauréats nous le présentent de manière sensible ou pittoresque mais souvent en lien avec des souvenirs d’enfance. \nDu 15 septembre au 3 novembre \nCloître de Moissac \nInclus dans le billet d’entrée
URL:https://www.moissac.fr/evenement/exposition-nos-arbres-remarquables/
LOCATION:Cloître\, Place Durand de Bredon\, Moissac\, France
CATEGORIES:Culture,Tout l'agenda
ATTACH;FMTTYPE=image/jpeg:https://www.moissac.fr/wp-content/uploads/2025/09/musee-moissac-exposition-caue-arbres-remarquables.jpg
END:VEVENT
BEGIN:VEVENT
DTSTART;VALUE=DATE:20250920
DTEND;VALUE=DATE:20250922
DTSTAMP:20260421T153520
CREATED:20250825T114532Z
LAST-MODIFIED:20250919T063346Z
UID:85802-1758326400-1758499199@www.moissac.fr
SUMMARY:Journées du Patrimoine - Jeux anciens avec la ludothèque !
DESCRIPTION:Découvrez et amusez avec les jeux anciens de la ludothèque dans le cloître. Une petite exposition vous fera en plus voyager autour du monde à travers les jeux. \nSamedi 20 et dimanche 21 septembre \n10h-12h / 13h-19h \nInclus dans la visite du cloître
URL:https://www.moissac.fr/evenement/journees-du-patrimoine-jeux-anciens-avec-lasso-tour-de-jeux/
LOCATION:Cloître\, Place Durand de Bredon\, Moissac\, France
CATEGORIES:Culture,Tout l'agenda
ATTACH;FMTTYPE=image/jpeg:https://www.moissac.fr/wp-content/uploads/2025/08/42.-tour-de-jeux.jpg
END:VEVENT
BEGIN:VEVENT
DTSTART;VALUE=DATE:20250920
DTEND;VALUE=DATE:20250922
DTSTAMP:20260421T153520
CREATED:20250825T114853Z
LAST-MODIFIED:20250902T154450Z
UID:85805-1758326400-1758499199@www.moissac.fr
SUMMARY:CHASSE AU TRÉSOR des Journées du Patrimoine
DESCRIPTION:Partez en groupe ou en famille résoudre les énigmes à travers la cité de Moissac et\, peut-être\, finirez-vous par trouver le trésor ! \nIl vous faudra explorer la ville\, faire appel à votre sens de l’observation\, vos capacités d’analyse mais aussi votre dextérité… Tout le monde est mis à contribution pour avancer dans cette quête ! Une manière insolite et ludique pour découvrir Moissac du cloître aux berges du Tarn tout en s’amusant. \nSamedi 20 et dimanche 21 septembre\nDe 10h à 17h (17h dernier départ) \nDurée : 1h30 à 2h\nA partir de 6 ans \n3€ par groupe
URL:https://www.moissac.fr/evenement/journees-du-patrimoine-chasse-au-tresor/
LOCATION:différents lieux en ville
CATEGORIES:Culture,Tout l'agenda
ATTACH;FMTTYPE=image/jpeg:https://www.moissac.fr/wp-content/uploads/2025/08/43.-chasse-au-tresor.jpg
END:VEVENT
BEGIN:VEVENT
DTSTART;TZID=Europe/Paris:20250921T100000
DTEND;TZID=Europe/Paris:20250921T120000
DTSTAMP:20260421T153520
CREATED:20250825T121407Z
LAST-MODIFIED:20250825T121407Z
UID:85833-1758448800-1758456000@www.moissac.fr
SUMMARY:Journées du Patrimoine -  CANOË Moissac au fil de l'eau
DESCRIPTION:Plongez au cœur de l’histoire de Moissac avec une sortie en canoë commentée\, alliant découverte du patrimoine et plaisir de la navigation sur le Tarn. Accompagnés d’un guide passionné\, laissez-vous porter par les flots et partez à la rencontre des trésors cachés de la ville et de son riche passé. \n Au programme : \nL’histoire de la cité Moissagaise se découvre par sa rivière. Depuis son origine\, la ville s’est construite en fonction du Tarn. Source de richesses\, circulations des hommes\, des marchandises\, des infrastructures… Mais le Tarn c’est aussi les inondations qui ont marqué les Moissagais. Toutes ces histoires vous sont racontées en pagayant avec un guide-conférencier. \nDimanche 21 septembre de 10H à 12H\nTarifs : GRATUIT \nRDV Base Canoë de Moissac – 220 Chem. de la Rhode\, 82200 Moissac \nA partir de 5 ans \nRéservation obligatoire : 06.74.96.82.82
URL:https://www.moissac.fr/evenement/journees-du-patrimoine-canoe-moissac-au-fil-de-leau/
LOCATION:Base canoë\, 220\, chemin de la Rhode\, Moissac\, Occitanie\, 82200\, France
CATEGORIES:Culture,Sport,Tout l'agenda
ATTACH;FMTTYPE=image/jpeg:https://www.moissac.fr/wp-content/uploads/2025/08/1.page-de-garde-c-s.broussodier.jpg
END:VEVENT
BEGIN:VEVENT
DTSTART;TZID=Europe/Paris:20250921T103000
DTEND;TZID=Europe/Paris:20250921T114500
DTSTAMP:20260421T153520
CREATED:20250825T115640Z
LAST-MODIFIED:20250902T154943Z
UID:85816-1758450600-1758455100@www.moissac.fr
SUMMARY:VISITE des Journées du Patrimoine - L’église Saint-Martin
DESCRIPTION:Découvrez le site le plus ancien de Moissac\, sauvé in extremis de la destruction… Grâce aux images d’archives et à des reconstitutions 3D\, laissez-vous conter l’histoire de ce monument\, des bains antiques aux fouilles archéologiques récentes\, sans oublier sa chapelle ornée de peintures murales du 15e siècle. \nDimanche 21 Septembre à 10h30\nGRATUIT \nRéservation obligatoire : 05 63 04 01 85\nRdv devant l’église Saint-Martin\, av de Gascogne
URL:https://www.moissac.fr/evenement/journees-du-patrimoine-leglise-saint-martin-2/
LOCATION:Eglise Saint-Martin
CATEGORIES:Culture,Tout l'agenda
ATTACH;FMTTYPE=image/jpeg:https://www.moissac.fr/wp-content/uploads/2024/01/11.st-martin-c-chourrau-loran-scaled.jpg
END:VEVENT
BEGIN:VEVENT
DTSTART;TZID=Europe/Paris:20250921T143000
DTEND;TZID=Europe/Paris:20250921T154500
DTSTAMP:20260421T153520
CREATED:20250825T115946Z
LAST-MODIFIED:20250902T154825Z
UID:85820-1758465000-1758469500@www.moissac.fr
SUMMARY:VISITE des Journées du Patrimoine - L’église Sainte-Catherine et le baroque
DESCRIPTION:L’histoire de l’église Sainte-Catherine est celle des marins de Moissac. De ce monument\, conservant un magnifique retable baroque\, le guide vous mènera au pied du pont Napoléon pour vous parler de l’ancien port de la ville. \nDimanche 21 Septembre à 14h30 \nGRATUIT – rdv à l’église Sainte-Catherine\, boulevard Lakanal\nRenseignements : 05 63 04 01 85
URL:https://www.moissac.fr/evenement/journees-du-patrimoine-leglise-sainte-catherine-et-le-baroque-2/
LOCATION:Eglise Sainte-Catherine
CATEGORIES:Culture,Tout l'agenda
ATTACH;FMTTYPE=image/jpeg:https://www.moissac.fr/wp-content/uploads/2023/06/46.-baroque-ste-catherine-cs.-broussodier-9-copie.jpg
END:VEVENT
BEGIN:VEVENT
DTSTART;TZID=Europe/Paris:20250921T153000
DTEND;TZID=Europe/Paris:20250921T163000
DTSTAMP:20260421T153520
CREATED:20250825T115349Z
LAST-MODIFIED:20250825T115349Z
UID:85811-1758468600-1758472200@www.moissac.fr
SUMMARY:Journées du Patrimoine - « Eudeline de Lobejat\, une Moissagaise au 15e siècle »
DESCRIPTION:Faites une plongée dans le Moissac médiéval en rejoignant Eudeline de Lobejat. Cette femme de marchand drapier vous invite à une promenade dans la cité moissagaise. De place en rue\, elle vous parlera avec humour et émotion des nombreuses rivalités qui animent ce bourg monastique au 15e siècle. \nDimanche 21 Septembre à 15h30\nGRATUIT – rdv à l’accueil du cloître \nRéservation conseillée places limitées : 05 63 04 01 85
URL:https://www.moissac.fr/evenement/journees-du-patrimoine-eudeline-de-lobejat-une-moissagaise-au-15e-siecle/
LOCATION:Cloître\, Place Durand de Bredon\, Moissac\, France
CATEGORIES:Culture,Tout l'agenda
ATTACH;FMTTYPE=image/jpeg:https://www.moissac.fr/wp-content/uploads/2024/06/musee-moissac-jeps-visite-eudeline.jpg
END:VEVENT
BEGIN:VEVENT
DTSTART;TZID=Europe/Paris:20250921T170000
DTEND;TZID=Europe/Paris:20250921T180000
DTSTAMP:20260421T153520
CREATED:20250825T120938Z
LAST-MODIFIED:20250902T154902Z
UID:85830-1758474000-1758477600@www.moissac.fr
SUMMARY:SPECTACLE Journée du Patrimoine - L’idée fait son Chemin  Par Bernard DUSSENNE
DESCRIPTION:Dans ce spectacle sur le chemin de Compostelle\, mélange de seul en scène et de conte\, Bernard DUSSENNE nous invite dans son univers imaginaire quelque peu décalé où l’humour et la poésie font bon ménage. Mais attention\, vous en sortirez sans doute avec la furieuse envie de partir sur le chemin\, à votre tour ! \nDimanche 21 Septembre à 17h \nSpectacle au Chapeau \nCloître de Moissac \nRenseignements : 05 63 04 01 85
URL:https://www.moissac.fr/evenement/journee-du-patrimoine-lidee-fait-son-chemin-par-bernard-dussenne/
LOCATION:Cloître\, Place Durand de Bredon\, Moissac\, France
CATEGORIES:Culture,Tout l'agenda
ATTACH;FMTTYPE=image/jpeg:https://www.moissac.fr/wp-content/uploads/2025/08/49-dussenne.jpg
END:VEVENT
END:VCALENDAR